BEGIN:VCALENDAR
VERSION:2.0
PRODID:-//Preston Hedges Primary School - ECPv6.15.18//NONSGML v1.0//EN
CALSCALE:GREGORIAN
METHOD:PUBLISH
X-WR-CALNAME:Preston Hedges Primary School
X-ORIGINAL-URL:https://prestonhedges.northants.sch.uk
X-WR-CALDESC:Events for Preston Hedges Primary School
REFRESH-INTERVAL;VALUE=DURATION:PT1H
X-Robots-Tag:noindex
X-PUBLISHED-TTL:PT1H
BEGIN:VTIMEZONE
TZID:Europe/London
BEGIN:DAYLIGHT
TZOFFSETFROM:+0000
TZOFFSETTO:+0100
TZNAME:BST
DTSTART:20240331T010000
END:DAYLIGHT
BEGIN:STANDARD
TZOFFSETFROM:+0100
TZOFFSETTO:+0000
TZNAME:GMT
DTSTART:20241027T010000
END:STANDARD
BEGIN:DAYLIGHT
TZOFFSETFROM:+0000
TZOFFSETTO:+0100
TZNAME:BST
DTSTART:20250330T010000
END:DAYLIGHT
BEGIN:STANDARD
TZOFFSETFROM:+0100
TZOFFSETTO:+0000
TZNAME:GMT
DTSTART:20251026T010000
END:STANDARD
BEGIN:DAYLIGHT
TZOFFSETFROM:+0000
TZOFFSETTO:+0100
TZNAME:BST
DTSTART:20260329T010000
END:DAYLIGHT
BEGIN:STANDARD
TZOFFSETFROM:+0100
TZOFFSETTO:+0000
TZNAME:GMT
DTSTART:20261025T010000
END:STANDARD
END:VTIMEZONE
BEGIN:VEVENT
DTSTART;TZID=Europe/London:20250714T100000
DTEND;TZID=Europe/London:20250714T140000
DTSTAMP:20260423T101312
CREATED:20250605T095313Z
LAST-MODIFIED:20250605T095313Z
UID:4383-1752487200-1752501600@prestonhedges.northants.sch.uk
SUMMARY:Year 6 TRUST Olympics @ Bedford Stadium
DESCRIPTION:Year 6 will take part in the Trust Olympics at Bedford Stadium. \nSpectators are welcome. \nMore information to follow.
URL:https://prestonhedges.northants.sch.uk/event/year-6-trust-olympics-bedford-stadium/
LOCATION:Northants
END:VEVENT
BEGIN:VEVENT
DTSTART;TZID=Europe/London:20250717T180000
DTEND;TZID=Europe/London:20250717T200000
DTSTAMP:20260423T101312
CREATED:20250115T114453Z
LAST-MODIFIED:20250115T114609Z
UID:4144-1752775200-1752782400@prestonhedges.northants.sch.uk
SUMMARY:Year 6 - Prom
DESCRIPTION:Year 6 Prom \n6-8pm \nmore info to follow
URL:https://prestonhedges.northants.sch.uk/event/y6-prom-2/
LOCATION:Preston Hedges Primary School\, Wootton Hope Drive\, Wootton Fields\, Northampton\, Northants\, NN4 6BU\, United Kingdom
END:VEVENT
BEGIN:VEVENT
DTSTART;TZID=Europe/London:20250718T144500
DTEND;TZID=Europe/London:20250718T151500
DTSTAMP:20260423T101312
CREATED:20250605T095105Z
LAST-MODIFIED:20250605T095105Z
UID:4381-1752849900-1752851700@prestonhedges.northants.sch.uk
SUMMARY:NO Friday Readers
DESCRIPTION:There is NO Friday Readers today.
URL:https://prestonhedges.northants.sch.uk/event/no-friday-readers-11/
LOCATION:Preston Hedges Primary School\, Wootton Hope Drive\, Wootton Fields\, Northampton\, Northants\, NN4 6BU\, United Kingdom
END:VEVENT
BEGIN:VEVENT
DTSTART;VALUE=DATE:20250722
DTEND;VALUE=DATE:20250723
DTSTAMP:20260423T101312
CREATED:20250311T145606Z
LAST-MODIFIED:20250311T145642Z
UID:4279-1753142400-1753228799@prestonhedges.northants.sch.uk
SUMMARY:FOPH - Non Uniform - Dare to be Different Day
DESCRIPTION:More information to follow
URL:https://prestonhedges.northants.sch.uk/event/foph-non-uniform-dare-to-be-different-day/
LOCATION:Preston Hedges Primary School\, Wootton Hope Drive\, Wootton Fields\, Northampton\, Northants\, NN4 6BU\, United Kingdom
CATEGORIES:FOPH
ORGANIZER;CN="foph":MAILTO:friendsofprestonhedges@gmail.com
END:VEVENT
BEGIN:VEVENT
DTSTART;TZID=Europe/London:20250722T090000
DTEND;TZID=Europe/London:20250722T110000
DTSTAMP:20260423T101312
CREATED:20250114T102613Z
LAST-MODIFIED:20250115T111819Z
UID:4141-1753174800-1753182000@prestonhedges.northants.sch.uk
SUMMARY:Year 6 Leavers Assembly
DESCRIPTION:Year 6 parents are invited to come and watch their child’s leavers assembly. \nAfterwards you are welcome to stay for a coffee/tea and a biscuit and photo opportunities.\nThe end of the morning will be approximately around 10.30am / 11am. \nPlease enter the school via the main office at 9am.
URL:https://prestonhedges.northants.sch.uk/event/year-6-leavers-assembly/
LOCATION:Preston Hedges Primary School\, Wootton Hope Drive\, Wootton Fields\, Northampton\, Northants\, NN4 6BU\, United Kingdom
END:VEVENT
BEGIN:VEVENT
DTSTART;VALUE=DATE:20250723
DTEND;VALUE=DATE:20250830
DTSTAMP:20260423T101312
CREATED:20250107T112826Z
LAST-MODIFIED:20250107T112829Z
UID:4075-1753228800-1756511999@prestonhedges.northants.sch.uk
SUMMARY:Summer Holiday
DESCRIPTION:School will be closed
URL:https://prestonhedges.northants.sch.uk/event/summer-holiday/
LOCATION:Northants
CATEGORIES:Holiday
END:VEVENT
BEGIN:VEVENT
DTSTART;VALUE=DATE:20250901
DTEND;VALUE=DATE:20250904
DTSTAMP:20260423T101312
CREATED:20250107T112902Z
LAST-MODIFIED:20250107T112904Z
UID:4077-1756684800-1756943999@prestonhedges.northants.sch.uk
SUMMARY:Teacher Training Day
DESCRIPTION:School will be closed
URL:https://prestonhedges.northants.sch.uk/event/teacher-training-day-4/
LOCATION:Northants
CATEGORIES:Holiday
END:VEVENT
BEGIN:VEVENT
DTSTART;TZID=Europe/London:20250915T085500
DTEND;TZID=Europe/London:20250915T093000
DTSTAMP:20260423T101312
CREATED:20250905T112210Z
LAST-MODIFIED:20250905T112213Z
UID:4434-1757926500-1757928600@prestonhedges.northants.sch.uk
SUMMARY:Year 6 - Welcome to the Year Group Meeting
DESCRIPTION:Welcome to the Year group meeting. \nA meeting lead by the Year group teachers informing parents with key information and what to expect about the year ahead for your child. \nPlease enter the school via the main entrance – the meeting will take place in the Hub.
URL:https://prestonhedges.northants.sch.uk/event/year-6-welcome-to-the-year-group-meeting/
LOCATION:Preston Hedges Primary School\, Wootton Hope Drive\, Wootton Fields\, Northampton\, Northants\, NN4 6BU\, United Kingdom
END:VEVENT
BEGIN:VEVENT
DTSTART;TZID=Europe/London:20250916T085500
DTEND;TZID=Europe/London:20250916T093000
DTSTAMP:20260423T101312
CREATED:20250905T112433Z
LAST-MODIFIED:20250905T112436Z
UID:4436-1758012900-1758015000@prestonhedges.northants.sch.uk
SUMMARY:Year 1 - Welcome to the Year Group Meeting
DESCRIPTION:Welcome to the Year group meeting. \nA meeting lead by the Year group teachers informing parents with key information and what to expect about the year ahead for your child. \nPlease enter the school via the main entrance – the meeting will take place in the Hub.
URL:https://prestonhedges.northants.sch.uk/event/year-1-welcome-to-the-year-group-meeting/
LOCATION:Preston Hedges Primary School\, Wootton Hope Drive\, Wootton Fields\, Northampton\, Northants\, NN4 6BU\, United Kingdom
END:VEVENT
BEGIN:VEVENT
DTSTART;TZID=Europe/London:20250917T085500
DTEND;TZID=Europe/London:20250917T093000
DTSTAMP:20260423T101312
CREATED:20250905T112507Z
LAST-MODIFIED:20250905T112509Z
UID:4438-1758099300-1758101400@prestonhedges.northants.sch.uk
SUMMARY:Year 5 - Welcome to the Year Group Meeting
DESCRIPTION:Welcome to the Year group meeting. \nA meeting lead by the Year group teachers informing parents with key information and what to expect about the year ahead for your child. \nPlease enter the school via the main entrance – the meeting will take place in the Hub.
URL:https://prestonhedges.northants.sch.uk/event/year-5-welcome-to-the-year-group-meeting/
LOCATION:Preston Hedges Primary School\, Wootton Hope Drive\, Wootton Fields\, Northampton\, Northants\, NN4 6BU\, United Kingdom
END:VEVENT
BEGIN:VEVENT
DTSTART;TZID=Europe/London:20250918T085500
DTEND;TZID=Europe/London:20250918T093000
DTSTAMP:20260423T101312
CREATED:20250905T112611Z
LAST-MODIFIED:20250905T112613Z
UID:4440-1758185700-1758187800@prestonhedges.northants.sch.uk
SUMMARY:Year 3 - Welcome to the Year Group Meeting
DESCRIPTION:Welcome to the Year group meeting. \nA meeting lead by the Year group teachers informing parents with key information and what to expect about the year ahead for your child. \nPlease enter the school via the main entrance – the meeting will take place in the Hub.
URL:https://prestonhedges.northants.sch.uk/event/year-3-welcome-to-the-year-group-meeting/
LOCATION:Preston Hedges Primary School\, Wootton Hope Drive\, Wootton Fields\, Northampton\, Northants\, NN4 6BU\, United Kingdom
END:VEVENT
BEGIN:VEVENT
DTSTART;TZID=Europe/London:20250919T085500
DTEND;TZID=Europe/London:20250919T093000
DTSTAMP:20260423T101312
CREATED:20250905T112650Z
LAST-MODIFIED:20250905T112652Z
UID:4442-1758272100-1758274200@prestonhedges.northants.sch.uk
SUMMARY:Year 4 - Welcome to the Year Group Meeting
DESCRIPTION:Welcome to the Year group meeting. \nA meeting lead by the Year group teachers informing parents with key information and what to expect about the year ahead for your child. \nPlease enter the school via the main entrance – the meeting will take place in the Hub.
URL:https://prestonhedges.northants.sch.uk/event/year-4-welcome-to-the-year-group-meeting/
LOCATION:Preston Hedges Primary School\, Wootton Hope Drive\, Wootton Fields\, Northampton\, Northants\, NN4 6BU\, United Kingdom
END:VEVENT
BEGIN:VEVENT
DTSTART;TZID=Europe/London:20250922T180000
DTEND;TZID=Europe/London:20250922T183000
DTSTAMP:20260423T101312
CREATED:20250905T114534Z
LAST-MODIFIED:20250905T114537Z
UID:4448-1758564000-1758565800@prestonhedges.northants.sch.uk
SUMMARY:KS1 (Y1-Y2) Reading and Phonics Parent Workshop
DESCRIPTION:Workshop for parents to learn all about Reading and Phonics that your child will be receiving this year.\nPlease enter the school via the main entrance. The workshop will start 6pm.
URL:https://prestonhedges.northants.sch.uk/event/ks1-y1-y2-reading-and-phonics-parent-workshop/
LOCATION:Preston Hedges Primary School\, Wootton Hope Drive\, Wootton Fields\, Northampton\, Northants\, NN4 6BU\, United Kingdom
END:VEVENT
BEGIN:VEVENT
DTSTART;TZID=Europe/London:20250922T184000
DTEND;TZID=Europe/London:20250922T191000
DTSTAMP:20260423T101312
CREATED:20250905T114656Z
LAST-MODIFIED:20250905T114703Z
UID:4450-1758566400-1758568200@prestonhedges.northants.sch.uk
SUMMARY:KS2 (Y3-Y6) Reading Parent Workshop
DESCRIPTION:Workshop for parents to learn all about Reading  that your child will be receiving this year.\nPlease enter the school via the main entrance. The workshop will start 6.40pm.
URL:https://prestonhedges.northants.sch.uk/event/ks2-y3-y6-reading-parent-workshop/
LOCATION:Preston Hedges Primary School\, Wootton Hope Drive\, Wootton Fields\, Northampton\, Northants\, NN4 6BU\, United Kingdom
END:VEVENT
BEGIN:VEVENT
DTSTART;TZID=Europe/London:20250923T085500
DTEND;TZID=Europe/London:20250923T093000
DTSTAMP:20260423T101312
CREATED:20250905T112758Z
LAST-MODIFIED:20250905T112800Z
UID:4444-1758617700-1758619800@prestonhedges.northants.sch.uk
SUMMARY:Year 2 - Welcome to the Year Group Meeting
DESCRIPTION:Welcome to the Year group meeting. \nA meeting lead by the Year group teachers informing parents with key information and what to expect about the year ahead for your child. \nPlease enter the school via the main entrance – the meeting will take place in the Hub.
URL:https://prestonhedges.northants.sch.uk/event/year-2-welcome-to-the-year-group-meeting/
LOCATION:Preston Hedges Primary School\, Wootton Hope Drive\, Wootton Fields\, Northampton\, Northants\, NN4 6BU\, United Kingdom
END:VEVENT
BEGIN:VEVENT
DTSTART;TZID=Europe/London:20250923T121500
DTEND;TZID=Europe/London:20250923T124500
DTSTAMP:20260423T101312
CREATED:20250905T113155Z
LAST-MODIFIED:20250905T113458Z
UID:4446-1758629700-1758631500@prestonhedges.northants.sch.uk
SUMMARY:12:15pm - EYFS - Welcome to the Year Group Meeting
DESCRIPTION:Welcome to the Year group meeting. \nA meeting lead by the Year group teachers informing parents with key information and what to expect about the year ahead for your child. \nPlease enter the school via the main entrance – the meeting will take place in the Hub.
URL:https://prestonhedges.northants.sch.uk/event/1215pm-eyfs-welcome-to-the-year-group-meeting/
LOCATION:Preston Hedges Primary School\, Wootton Hope Drive\, Wootton Fields\, Northampton\, Northants\, NN4 6BU\, United Kingdom
END:VEVENT
BEGIN:VEVENT
DTSTART;TZID=Europe/London:20250923T180000
DTEND;TZID=Europe/London:20250923T183000
DTSTAMP:20260423T101312
CREATED:20250905T123141Z
LAST-MODIFIED:20250919T113204Z
UID:4452-1758650400-1758652200@prestonhedges.northants.sch.uk
SUMMARY:KS1 and KS2 (Y1-Y6) Maths Parent Workshop
DESCRIPTION:Workshop for parents to learn all about Maths that your child will be receiving this year.\nPlease enter the school via the main entrance.
URL:https://prestonhedges.northants.sch.uk/event/ks1-and-ks2-y1-y6-maths-parent-workshop/
LOCATION:Preston Hedges Primary School\, Wootton Hope Drive\, Wootton Fields\, Northampton\, Northants\, NN4 6BU\, United Kingdom
END:VEVENT
BEGIN:VEVENT
DTSTART;TZID=Europe/London:20251010T144500
DTEND;TZID=Europe/London:20251010T151500
DTSTAMP:20260423T101312
CREATED:20251008T141756Z
LAST-MODIFIED:20251008T141818Z
UID:4509-1760107500-1760109300@prestonhedges.northants.sch.uk
SUMMARY:Friday Readers - EYFS and KS1
DESCRIPTION:Friday Readers for Reception\, Year 1 and Year 2 children. \nYou are very welcome to come and read a book with your child in their class room from 2.45pm onwards.\nPlease enter the school via the main reception.
URL:https://prestonhedges.northants.sch.uk/event/friday-readers-eyfs-and-ks1-17/
LOCATION:Preston Hedges Primary School\, Wootton Hope Drive\, Wootton Fields\, Northampton\, Northants\, NN4 6BU\, United Kingdom
END:VEVENT
BEGIN:VEVENT
DTSTART;TZID=Europe/London:20251015T190000
DTEND;TZID=Europe/London:20251015T200000
DTSTAMP:20260423T101312
CREATED:20251013T132512Z
LAST-MODIFIED:20251013T132518Z
UID:4527-1760554800-1760558400@prestonhedges.northants.sch.uk
SUMMARY:FOPH - AGM
DESCRIPTION:Friends of Preston Hedges – AGM \nWe would love you to join us for our annual general meeting.\nThis is our annual get-together where we share what we have been up to\, how funds have been spent and our exciting plans for\nthe year ahead.\nIt is also where we vote in the new committee (Chair\, Treasurer\, Secretary\, plus extra helpers).\nIf you would like to put yourself forwards for any of these roles we would love to hear from you.\nPlease drop us a note at friendsofprestonhedges@gmail.com \nComing along to our AGM doesn’t mean you’ll be pressured to join the committee\, it’s just a chance to hear more\, have your say and really make a difference.\nIt’s a great opportunity to meet other parents and members of the community whilst supporting our fundraising efforts. \nThere will also of course be some nibbles so come and join us\, say hi and get involved
URL:https://prestonhedges.northants.sch.uk/event/foph-agm/
LOCATION:Preston Hedges Primary School\, Wootton Hope Drive\, Wootton Fields\, Northampton\, Northants\, NN4 6BU\, United Kingdom
CATEGORIES:FOPH
ORGANIZER;CN="foph":MAILTO:friendsofprestonhedges@gmail.com
END:VEVENT
BEGIN:VEVENT
DTSTART;TZID=Europe/London:20251016T153000
DTEND;TZID=Europe/London:20251016T200000
DTSTAMP:20260423T101312
CREATED:20251013T134117Z
LAST-MODIFIED:20251013T134120Z
UID:4529-1760628600-1760644800@prestonhedges.northants.sch.uk
SUMMARY:Parent Evening
DESCRIPTION:The parents evening booking system is open until 5.30pm – Tuesday 14th October on Arbor.\n\nIn order to book an appointment\, please log on to Arbor and choose a time and date.
URL:https://prestonhedges.northants.sch.uk/event/parent-evening-3/
LOCATION:Preston Hedges Primary School\, Wootton Hope Drive\, Wootton Fields\, Northampton\, Northants\, NN4 6BU\, United Kingdom
END:VEVENT
BEGIN:VEVENT
DTSTART;TZID=Europe/London:20251017T144500
DTEND;TZID=Europe/London:20251017T151500
DTSTAMP:20260423T101312
CREATED:20251008T142059Z
LAST-MODIFIED:20251008T142114Z
UID:4512-1760712300-1760714100@prestonhedges.northants.sch.uk
SUMMARY:Friday Readers - EYFS and KS1
DESCRIPTION:Friday Readers for Reception\, Year 1 and Year 2 children. \nYou are very welcome to come and read a book with your child in their class room from 2.45pm onwards.\nPlease enter the school via the main reception.
URL:https://prestonhedges.northants.sch.uk/event/friday-readers-eyfs-and-ks1-18/
LOCATION:Preston Hedges Primary School\, Wootton Hope Drive\, Wootton Fields\, Northampton\, Northants\, NN4 6BU\, United Kingdom
END:VEVENT
BEGIN:VEVENT
DTSTART;VALUE=DATE:20251020
DTEND;VALUE=DATE:20251021
DTSTAMP:20260423T101312
CREATED:20250903T103238Z
LAST-MODIFIED:20251013T134532Z
UID:4419-1760918400-1761004799@prestonhedges.northants.sch.uk
SUMMARY:Celebration Day - Diwali
DESCRIPTION:We are celebrating Diwali.  \nOur children are invited to come to school in celebratory clothes to recognise and mark this important festival for so many members of our community. \nAs it is Year 6’s PE day\, they are welcome to bring their PE kit to change into so that they can still wear their celebratory outfits in the morning.
URL:https://prestonhedges.northants.sch.uk/event/celebration-day-diwali/
LOCATION:Preston Hedges Primary School\, Wootton Hope Drive\, Wootton Fields\, Northampton\, Northants\, NN4 6BU\, United Kingdom
END:VEVENT
BEGIN:VEVENT
DTSTART;TZID=Europe/London:20251021T124500
DTEND;TZID=Europe/London:20251021T144500
DTSTAMP:20260423T101312
CREATED:20251013T135051Z
LAST-MODIFIED:20251013T135054Z
UID:4539-1761050700-1761057900@prestonhedges.northants.sch.uk
SUMMARY:Y6 Girls - Wonderlab Science Trip
DESCRIPTION:
URL:https://prestonhedges.northants.sch.uk/event/y6-girls-wonderlab-science-trip/
LOCATION:Preston Hedges Primary School\, Wootton Hope Drive\, Wootton Fields\, Northampton\, Northants\, NN4 6BU\, United Kingdom
END:VEVENT
BEGIN:VEVENT
DTSTART;TZID=Europe/London:20251021T180000
DTEND;TZID=Europe/London:20251021T190000
DTSTAMP:20260423T101312
CREATED:20251013T134910Z
LAST-MODIFIED:20251013T134913Z
UID:4537-1761069600-1761073200@prestonhedges.northants.sch.uk
SUMMARY:Year 4 - Educational Technology Parent Meeting
DESCRIPTION:We would like to invite Year 4 parents to a meeting on the Tuesday 21st October at 6pm\, to share greater detail about the Educational Technology project.
URL:https://prestonhedges.northants.sch.uk/event/year-4-educational-technology-parent-meeting/
LOCATION:Preston Hedges Primary School\, Wootton Hope Drive\, Wootton Fields\, Northampton\, Northants\, NN4 6BU\, United Kingdom
END:VEVENT
BEGIN:VEVENT
DTSTART;TZID=Europe/London:20251022T153000
DTEND;TZID=Europe/London:20251022T180000
DTSTAMP:20260423T101312
CREATED:20251013T134240Z
LAST-MODIFIED:20251013T134243Z
UID:4532-1761147000-1761156000@prestonhedges.northants.sch.uk
SUMMARY:Parent Evening
DESCRIPTION:The parents evening booking system is open until 5.30pm – Tuesday 14th October on Arbor.\n\nIn order to book an appointment\, please log on to Arbor and choose a time and date.
URL:https://prestonhedges.northants.sch.uk/event/parent-evening-4/
LOCATION:Preston Hedges Primary School\, Wootton Hope Drive\, Wootton Fields\, Northampton\, Northants\, NN4 6BU\, United Kingdom
END:VEVENT
BEGIN:VEVENT
DTSTART;TZID=Europe/London:20251023T090000
DTEND;TZID=Europe/London:20251023T150000
DTSTAMP:20260423T101312
CREATED:20251013T135753Z
LAST-MODIFIED:20251013T135757Z
UID:4543-1761210000-1761231600@prestonhedges.northants.sch.uk
SUMMARY:Year 6 - Vietnam Celebration Day
DESCRIPTION:As part of this term’s Geography lessons\, we have covered a variety of topics surrounding Vietnam. \nWe are going to have a Vietnam Celebration Day on Thursday 23rd October where all children are invited to come dressed as something related to Vietnam such as coming in clothes in the colour of the flag (red and yellow) or things you might wear when travelling around the country. \nWe will spend the day taking part in lots of activities related to our geography topic\, such as making some Vietnamese crafts\, learning more about their culture and even trying to make their own vegetable summer rolls too!
URL:https://prestonhedges.northants.sch.uk/event/year-6-vietnam-celebration-day/
LOCATION:Preston Hedges Primary School\, Wootton Hope Drive\, Wootton Fields\, Northampton\, Northants\, NN4 6BU\, United Kingdom
END:VEVENT
BEGIN:VEVENT
DTSTART;TZID=Europe/London:20251023T093000
DTEND;TZID=Europe/London:20251023T150000
DTSTAMP:20260423T101312
CREATED:20251013T135523Z
LAST-MODIFIED:20251013T135527Z
UID:4541-1761211800-1761231600@prestonhedges.northants.sch.uk
SUMMARY:Year 1 - Irchester Country Park Trip
DESCRIPTION:As part of our learning about The World Around Us (which is our geography topic for this term)\, we would like to take the children to Irchester Country Park.\nThey will have the opportunity to find different mini beasts in their habitats and become explorers using maps and compasses to find Red Mountain.\nIt will provide a valuable opportunity to bring the topic and their learning to life. \nChildren will be off school site for lunch\, therefore please send your child to school with a packed lunch in a disposable bag\, clearly labelled with your child’s name.\nAny lunch bookings placed with Caterlink will be cancelled for this day.
URL:https://prestonhedges.northants.sch.uk/event/year-1-irchester-country-park-trip/
LOCATION:Preston Hedges Primary School\, Wootton Hope Drive\, Wootton Fields\, Northampton\, Northants\, NN4 6BU\, United Kingdom
END:VEVENT
BEGIN:VEVENT
DTSTART;TZID=Europe/London:20251023T133000
DTEND;TZID=Europe/London:20251023T150000
DTSTAMP:20260423T101312
CREATED:20251013T140104Z
LAST-MODIFIED:20251013T140109Z
UID:4545-1761226200-1761231600@prestonhedges.northants.sch.uk
SUMMARY:Year 4 - Self-Discipline Reward Afternoon
DESCRIPTION:As this term draws to a close\, the children have continued to impress us with their hard work\, and as a result\, the children have filled a jar in both 4R and 4C.\nBoth classes have filled their self-discipline jars\, and we are so proud of them! \nTo reward the children for their efforts\, the children will be watching Harry Potter and the Philosopher’s Stone (which is a PG).\nThis film is linked to the children’s Year 4 English topic this term and the children have been using this as a stimulus for descriptive writing and writing a biography for Albus Dumbledore.\nThe children have thoroughly enjoyed this as their class read too. \nThe children will be able to bring in a snack with them to watch the film\, this can be sweets\, popcorn or chocolate\, if you would like.\nHowever\, as always please make sure there are no nuts in these snacks as they will not be able to eat them in school.\nThe snacks should be for your child only and are not to be shared with other children in the class. \nThe film will be in the afternoon of Thursday 23rd October\, therefore\, if you do not want your child to watch the film\, please email the office by 9am on Thursday 23rd October.
URL:https://prestonhedges.northants.sch.uk/event/year-4-self-discipline-reward-afternoon/
LOCATION:Preston Hedges Primary School\, Wootton Hope Drive\, Wootton Fields\, Northampton\, Northants\, NN4 6BU\, United Kingdom
END:VEVENT
BEGIN:VEVENT
DTSTART;TZID=Europe/London:20251024T090000
DTEND;TZID=Europe/London:20251024T150000
DTSTAMP:20260423T101312
CREATED:20251013T140323Z
LAST-MODIFIED:20251013T140327Z
UID:4547-1761296400-1761318000@prestonhedges.northants.sch.uk
SUMMARY:Year 3 - 'Rivers' Celebration Day
DESCRIPTION:We are pleased to let you know that we will be having a celebration day for our new Geography topic in Year 3 on Friday 24th October.  \nDuring the day\, the children will take part in several activities relating to their Geography topic of ‘Beyond the River’. \nIt would be lovely if your child came to school dressed up for the day.\nThis could be wearing blue or green (like a river) so they can be fully immersed into their curriculum topic.
URL:https://prestonhedges.northants.sch.uk/event/year-3-rivers-celebration-day/
LOCATION:Preston Hedges Primary School\, Wootton Hope Drive\, Wootton Fields\, Northampton\, Northants\, NN4 6BU\, United Kingdom
END:VEVENT
BEGIN:VEVENT
DTSTART;TZID=Europe/London:20251024T090000
DTEND;TZID=Europe/London:20251024T150000
DTSTAMP:20260423T101312
CREATED:20251013T140454Z
LAST-MODIFIED:20251013T140458Z
UID:4549-1761296400-1761318000@prestonhedges.northants.sch.uk
SUMMARY:Year 4 - 'Metropolis' Celebration Day
DESCRIPTION:This term in Year 4 Geography\, our topic is Metropolis. We have been using atlases and Digi maps to find capital cities from across the world.\nThe children have enjoyed exploring London\, Bern and Washington DC using tour videos\, creating postcards and information packs. \nWe will be having a celebration Day on Friday 24th October\, where we will be creating our own cities and becoming tour guides for a chosen capital city\, taking part in activities and tours\, using the knowledge we have gained over the previous 6 weeks. \nIt would be great if your child could dress up as explorers\, wearing neutral/ green coloured clothes.
URL:https://prestonhedges.northants.sch.uk/event/year-4-metropolis-celebration-day/
LOCATION:Preston Hedges Primary School\, Wootton Hope Drive\, Wootton Fields\, Northampton\, Northants\, NN4 6BU\, United Kingdom
END:VEVENT
END:VCALENDAR