BEGIN:VCALENDAR
VERSION:2.0
PRODID:-//Preston Hedges Primary School - ECPv6.15.18//NONSGML v1.0//EN
CALSCALE:GREGORIAN
METHOD:PUBLISH
X-WR-CALNAME:Preston Hedges Primary School
X-ORIGINAL-URL:https://prestonhedges.northants.sch.uk
X-WR-CALDESC:Events for Preston Hedges Primary School
REFRESH-INTERVAL;VALUE=DURATION:PT1H
X-Robots-Tag:noindex
X-PUBLISHED-TTL:PT1H
BEGIN:VTIMEZONE
TZID:Europe/London
BEGIN:DAYLIGHT
TZOFFSETFROM:+0000
TZOFFSETTO:+0100
TZNAME:BST
DTSTART:20250330T010000
END:DAYLIGHT
BEGIN:STANDARD
TZOFFSETFROM:+0100
TZOFFSETTO:+0000
TZNAME:GMT
DTSTART:20251026T010000
END:STANDARD
BEGIN:DAYLIGHT
TZOFFSETFROM:+0000
TZOFFSETTO:+0100
TZNAME:BST
DTSTART:20260329T010000
END:DAYLIGHT
BEGIN:STANDARD
TZOFFSETFROM:+0100
TZOFFSETTO:+0000
TZNAME:GMT
DTSTART:20261025T010000
END:STANDARD
BEGIN:DAYLIGHT
TZOFFSETFROM:+0000
TZOFFSETTO:+0100
TZNAME:BST
DTSTART:20270328T010000
END:DAYLIGHT
BEGIN:STANDARD
TZOFFSETFROM:+0100
TZOFFSETTO:+0000
TZNAME:GMT
DTSTART:20271031T010000
END:STANDARD
END:VTIMEZONE
BEGIN:VEVENT
DTSTART;TZID=Europe/London:20260423T190000
DTEND;TZID=Europe/London:20260423T200000
DTSTAMP:20260423T031023
CREATED:20260114T140013Z
LAST-MODIFIED:20260114T140016Z
UID:4708-1776970800-1776974400@prestonhedges.northants.sch.uk
SUMMARY:Year 5 - Shakespeare at the Royal & Derngate
DESCRIPTION:Year 5 – The Tempest \nPerformance at the Royal & Derngate\nSelected children will perform their part of Shakespeare The Tempest. \nMore information regarding ticket purchase will be emailed to parents of the selected children performing.
URL:https://prestonhedges.northants.sch.uk/event/year-5-shakespeare-at-the-royal-derngate/
LOCATION:Royal Derngate Theatre\, NN1 1DP
END:VEVENT
END:VCALENDAR