BEGIN:VCALENDAR
VERSION:2.0
PRODID:-//Preston Hedges Primary School - ECPv6.15.18//NONSGML v1.0//EN
CALSCALE:GREGORIAN
METHOD:PUBLISH
X-ORIGINAL-URL:https://prestonhedges.northants.sch.uk
X-WR-CALDESC:Events for Preston Hedges Primary School
REFRESH-INTERVAL;VALUE=DURATION:PT1H
X-Robots-Tag:noindex
X-PUBLISHED-TTL:PT1H
BEGIN:VTIMEZONE
TZID:Europe/London
BEGIN:DAYLIGHT
TZOFFSETFROM:+0000
TZOFFSETTO:+0100
TZNAME:BST
DTSTART:20230326T010000
END:DAYLIGHT
BEGIN:STANDARD
TZOFFSETFROM:+0100
TZOFFSETTO:+0000
TZNAME:GMT
DTSTART:20231029T010000
END:STANDARD
BEGIN:DAYLIGHT
TZOFFSETFROM:+0000
TZOFFSETTO:+0100
TZNAME:BST
DTSTART:20240331T010000
END:DAYLIGHT
BEGIN:STANDARD
TZOFFSETFROM:+0100
TZOFFSETTO:+0000
TZNAME:GMT
DTSTART:20241027T010000
END:STANDARD
BEGIN:DAYLIGHT
TZOFFSETFROM:+0000
TZOFFSETTO:+0100
TZNAME:BST
DTSTART:20250330T010000
END:DAYLIGHT
BEGIN:STANDARD
TZOFFSETFROM:+0100
TZOFFSETTO:+0000
TZNAME:GMT
DTSTART:20251026T010000
END:STANDARD
END:VTIMEZONE
BEGIN:VEVENT
DTSTART;TZID=Europe/London:20240627T090000
DTEND;TZID=Europe/London:20240627T150000
DTSTAMP:20260421T085937
CREATED:20240522T201937Z
LAST-MODIFIED:20240613T105548Z
UID:3574-1719478800-1719500400@prestonhedges.northants.sch.uk
SUMMARY:Y3/4 Mini Wimbledon Tournament
DESCRIPTION:The children have been given the opportunity to take part in a mini Wimbledon tournament hosted by Northampton Lawn Tennis Club. \nYour child will need the following on this day: \n\nPE kit\nSuitable Trainers\nPacked lunch (please cancel all hot dinners via your ParentPay account for this day)\na drink\n\nChildren may bring along their own tennis racket if they have one but his isn’t a requirement as all equipment will be provided on the day. \nSpectators are welcome on the day.
URL:https://prestonhedges.northants.sch.uk/event/y3-4-mini-wimbledon-tournament/
LOCATION:Northants
END:VEVENT
END:VCALENDAR