BEGIN:VCALENDAR
VERSION:2.0
PRODID:-//Preston Hedges Primary School - ECPv6.15.18//NONSGML v1.0//EN
CALSCALE:GREGORIAN
METHOD:PUBLISH
X-ORIGINAL-URL:https://prestonhedges.northants.sch.uk
X-WR-CALDESC:Events for Preston Hedges Primary School
REFRESH-INTERVAL;VALUE=DURATION:PT1H
X-Robots-Tag:noindex
X-PUBLISHED-TTL:PT1H
BEGIN:VTIMEZONE
TZID:Europe/London
BEGIN:DAYLIGHT
TZOFFSETFROM:+0000
TZOFFSETTO:+0100
TZNAME:BST
DTSTART:20230326T010000
END:DAYLIGHT
BEGIN:STANDARD
TZOFFSETFROM:+0100
TZOFFSETTO:+0000
TZNAME:GMT
DTSTART:20231029T010000
END:STANDARD
BEGIN:DAYLIGHT
TZOFFSETFROM:+0000
TZOFFSETTO:+0100
TZNAME:BST
DTSTART:20240331T010000
END:DAYLIGHT
BEGIN:STANDARD
TZOFFSETFROM:+0100
TZOFFSETTO:+0000
TZNAME:GMT
DTSTART:20241027T010000
END:STANDARD
BEGIN:DAYLIGHT
TZOFFSETFROM:+0000
TZOFFSETTO:+0100
TZNAME:BST
DTSTART:20250330T010000
END:DAYLIGHT
BEGIN:STANDARD
TZOFFSETFROM:+0100
TZOFFSETTO:+0000
TZNAME:GMT
DTSTART:20251026T010000
END:STANDARD
END:VTIMEZONE
BEGIN:VEVENT
DTSTART;TZID=Europe/London:20240625T080000
DTEND;TZID=Europe/London:20240625T170000
DTSTAMP:20260421T092219
CREATED:20240613T130002Z
LAST-MODIFIED:20240613T130014Z
UID:3625-1719302400-1719334800@prestonhedges.northants.sch.uk
SUMMARY:Y5 - Windrush - Celebration Day
DESCRIPTION:As part of our History Unit ‘Rebuilding Britain: Women and the Windrush\,’ Year 5 will be having a celebration day.\nWe have selected this date due to its proximity to Windrush Day\, which is remembered on 22nd June each year. \nAs part of this day\, we kindly ask that pupils come in something red\, green\, blue or yellow to match the colours associated with the occasion. \nThe children will also be trying food on this day; we are aware of all existing allergies and dietary requirements\, and these will be catered for.\nPlease do not hesitate to update the office of any recent changes by Friday 21st June so that appropriate arrangements can be made.
URL:https://prestonhedges.northants.sch.uk/event/y5-windrush-celebration-day/
LOCATION:Preston Hedges Primary School\, Wootton Hope Drive\, Wootton Fields\, Northampton\, Northants\, NN4 6BU\, United Kingdom
END:VEVENT
BEGIN:VEVENT
DTSTART;TZID=Europe/London:20240625T090000
DTEND;TZID=Europe/London:20240625T103000
DTSTAMP:20260421T092219
CREATED:20240522T200829Z
LAST-MODIFIED:20240613T105858Z
UID:3564-1719306000-1719311400@prestonhedges.northants.sch.uk
SUMMARY:Y3/4 Sports Morning
DESCRIPTION:We will aim to start at 9:05am and hope to finish by 10:15am. \nEach of the children will take part in individual and group races which contribute to their team’s overall scores. \nPlease could you ensure that your child has removed any jewellery and wears a hat and sun cream if appropriate. \nWe hope you will be able to join us to watch the event
URL:https://prestonhedges.northants.sch.uk/event/y3-4-sports-morning/
LOCATION:Preston Hedges Primary School\, Wootton Hope Drive\, Wootton Fields\, Northampton\, Northants\, NN4 6BU\, United Kingdom
END:VEVENT
BEGIN:VEVENT
DTSTART;TZID=Europe/London:20240625T133000
DTEND;TZID=Europe/London:20240625T151500
DTSTAMP:20260421T092219
CREATED:20240620T125021Z
LAST-MODIFIED:20240620T125136Z
UID:3649-1719322200-1719328500@prestonhedges.northants.sch.uk
SUMMARY:Y4 - Value Celebration Afternoon
DESCRIPTION:We are pleased to let you know that Year 4 have filled their ‘self-discipline’ values jars! \nThe Year 4 team are really proud of how hard the children have been working in class and\ntheir positive attitude to their learning in order to do so. \nAfter voting\, the children have opted to have a film afternoon as their reward. This will take\nplace on Tuesday 25th June in the afternoon. \nWe will be watching the film ‘Hercules’ as this fits nicely with our new curriculum topic of\n‘Ancient Greeks’. As this film is rated a PG\, please could you let us know by Friday 21st June if\nyou do not wish for your child to watch this
URL:https://prestonhedges.northants.sch.uk/event/y4-value-celebration-afternoon/
LOCATION:Preston Hedges Primary School\, Wootton Hope Drive\, Wootton Fields\, Northampton\, Northants\, NN4 6BU\, United Kingdom
END:VEVENT
END:VCALENDAR